BEGIN:VCALENDAR
VERSION:2.0
PRODID:-//Mittelschule Bayreuth-Altstadt - ECPv6.15.20//NONSGML v1.0//EN
CALSCALE:GREGORIAN
METHOD:PUBLISH
X-ORIGINAL-URL:https://altstadtschule-bayreuth.de
X-WR-CALDESC:Veranstaltungen für Mittelschule Bayreuth-Altstadt
REFRESH-INTERVAL;VALUE=DURATION:PT1H
X-Robots-Tag:noindex
X-PUBLISHED-TTL:PT1H
BEGIN:VTIMEZONE
TZID:UTC
BEGIN:STANDARD
TZOFFSETFROM:+0000
TZOFFSETTO:+0000
TZNAME:UTC
DTSTART:20230101T000000
END:STANDARD
END:VTIMEZONE
BEGIN:VEVENT
DTSTART;TZID=UTC:20241127T163000
DTEND;TZID=UTC:20241127T183000
DTSTAMP:20260422T220833
CREATED:20241115T074326Z
LAST-MODIFIED:20241115T103330Z
UID:3215-1732725000-1732732200@altstadtschule-bayreuth.de
SUMMARY:Wintermarkt der Kulturen
DESCRIPTION:Wir laden herzlich zum Wintermarkt der Kulturen ein. \nAm Mittwoch den 27. November 2025 von 16:30 bis 18:30 Uhr in den Außenbereichen der Mittelschule Bayreuth-Altstadt\, Fantaisiestraße 11 \nFür das leibliche Wohl ist gesorgt\, außerdem gibt es Verkaufsstände für Handgemachtes von den Schülern. \n 
URL:https://altstadtschule-bayreuth.de/termine/wintermarkt-der-kulturen/
LOCATION:Mittelschule Bayreuth-Altstadt\, Fantaisiestr.\, Bayreuth\, 95445
CATEGORIES:Feste
END:VEVENT
BEGIN:VEVENT
DTSTART;VALUE=DATE:20240729
DTEND;VALUE=DATE:20240910
DTSTAMP:20260422T220833
CREATED:20240115T142616Z
LAST-MODIFIED:20240115T144512Z
UID:2699-1722211200-1725926399@altstadtschule-bayreuth.de
SUMMARY:Sommerferien
DESCRIPTION:
URL:https://altstadtschule-bayreuth.de/termine/sommerferien-2/
CATEGORIES:Ferien
END:VEVENT
BEGIN:VEVENT
DTSTART;TZID=UTC:20240628T080000
DTEND;TZID=UTC:20240628T130000
DTSTAMP:20260422T220833
CREATED:20240205T112301Z
LAST-MODIFIED:20240205T112301Z
UID:2795-1719561600-1719579600@altstadtschule-bayreuth.de
SUMMARY:Quali NT
DESCRIPTION:
URL:https://altstadtschule-bayreuth.de/termine/quali-nt-2/
LOCATION:Mittelschule Bayreuth-Altstadt\, Fantaisiestr.\, Bayreuth\, 95445
CATEGORIES:Abschlussprüfung
END:VEVENT
BEGIN:VEVENT
DTSTART;TZID=UTC:20240627T080000
DTEND;TZID=UTC:20240627T170000
DTSTAMP:20260422T220833
CREATED:20240205T112221Z
LAST-MODIFIED:20240205T112221Z
UID:2793-1719475200-1719507600@altstadtschule-bayreuth.de
SUMMARY:Quali GPG
DESCRIPTION:
URL:https://altstadtschule-bayreuth.de/termine/quali-gpg-2/
LOCATION:Mittelschule Bayreuth-Altstadt\, Fantaisiestr.\, Bayreuth\, 95445
CATEGORIES:Abschlussprüfung
END:VEVENT
BEGIN:VEVENT
DTSTART;TZID=UTC:20240626T080000
DTEND;TZID=UTC:20240626T130000
DTSTAMP:20260422T220833
CREATED:20240205T112135Z
LAST-MODIFIED:20240205T112135Z
UID:2791-1719388800-1719406800@altstadtschule-bayreuth.de
SUMMARY:Quali Mathe
DESCRIPTION:
URL:https://altstadtschule-bayreuth.de/termine/quali-mathe-2/
LOCATION:Mittelschule Bayreuth-Altstadt\, Fantaisiestr.\, Bayreuth\, 95445
CATEGORIES:Abschlussprüfung
END:VEVENT
BEGIN:VEVENT
DTSTART;TZID=UTC:20240625T080000
DTEND;TZID=UTC:20240625T130000
DTSTAMP:20260422T220833
CREATED:20240205T112055Z
LAST-MODIFIED:20240205T112055Z
UID:2789-1719302400-1719320400@altstadtschule-bayreuth.de
SUMMARY:Quali Deutsch
DESCRIPTION:schriftliche Prüfung
URL:https://altstadtschule-bayreuth.de/termine/quali-deutsch/
LOCATION:Mittelschule Bayreuth-Altstadt\, Fantaisiestr.\, Bayreuth\, 95445
CATEGORIES:Abschlussprüfung
END:VEVENT
BEGIN:VEVENT
DTSTART;TZID=UTC:20240624T080000
DTEND;TZID=UTC:20240624T120000
DTSTAMP:20260422T220833
CREATED:20240205T111913Z
LAST-MODIFIED:20240205T111913Z
UID:2787-1719216000-1719230400@altstadtschule-bayreuth.de
SUMMARY:Quali Englisch
DESCRIPTION:schriftliche Prüfung Englisch
URL:https://altstadtschule-bayreuth.de/termine/quali-englisch/
LOCATION:Mittelschule Bayreuth-Altstadt\, Fantaisiestr.\, Bayreuth\, 95445
CATEGORIES:Abschlussprüfung
END:VEVENT
BEGIN:VEVENT
DTSTART;VALUE=DATE:20240624
DTEND;VALUE=DATE:20240629
DTSTAMP:20260422T220833
CREATED:20240205T112502Z
LAST-MODIFIED:20240205T112502Z
UID:2799-1719187200-1719619199@altstadtschule-bayreuth.de
SUMMARY:Praktikum 8. Klassen
DESCRIPTION:Einwöchiges Praktikum der Klassen 8a\, 8b und DK 8
URL:https://altstadtschule-bayreuth.de/termine/praktikum-8-klassen-2/
CATEGORIES:Praktikum
END:VEVENT
BEGIN:VEVENT
DTSTART;TZID=UTC:20240621T080000
DTEND;TZID=UTC:20240621T130000
DTSTAMP:20260422T220833
CREATED:20240205T112355Z
LAST-MODIFIED:20240205T112355Z
UID:2797-1718956800-1718974800@altstadtschule-bayreuth.de
SUMMARY:Quali Muttersprache
DESCRIPTION:
URL:https://altstadtschule-bayreuth.de/termine/quali-muttersprache/
LOCATION:Mittelschule Bayreuth-Altstadt\, Fantaisiestr.\, Bayreuth\, 95445
CATEGORIES:Abschlussprüfung
END:VEVENT
BEGIN:VEVENT
DTSTART;TZID=UTC:20240610T080000
DTEND;TZID=UTC:20240612T130000
DTSTAMP:20260422T220833
CREATED:20240205T111827Z
LAST-MODIFIED:20240205T111827Z
UID:2785-1718006400-1718197200@altstadtschule-bayreuth.de
SUMMARY:Quali Englisch mündlich
DESCRIPTION:Termine nach Plan
URL:https://altstadtschule-bayreuth.de/termine/quali-englisch-muendlich-2/
LOCATION:Mittelschule Bayreuth-Altstadt\, Fantaisiestr.\, Bayreuth\, 95445
CATEGORIES:Abschlussprüfung
END:VEVENT
BEGIN:VEVENT
DTSTART;VALUE=DATE:20240610
DTEND;VALUE=DATE:20240613
DTSTAMP:20260422T220833
CREATED:20240610T080015Z
LAST-MODIFIED:20240205T110951Z
UID:1842-1717977600-1718236799@altstadtschule-bayreuth.de
SUMMARY:Quali Englisch mündlich
DESCRIPTION:Quali Englisch mündliche Prüfung\, Termine nach Plan
URL:https://altstadtschule-bayreuth.de/termine/quali-englisch-muendlich/
LOCATION:Mittelschule Bayreuth-Altstadt\, Fantaisiestr.\, Bayreuth\, 95445
CATEGORIES:Abschlussprüfung
END:VEVENT
BEGIN:VEVENT
DTSTART;TZID=UTC:20240606T080000
DTEND;TZID=UTC:20240606T170000
DTSTAMP:20260422T220833
CREATED:20240606T105117Z
LAST-MODIFIED:20240205T105234Z
UID:2776-1717660800-1717693200@altstadtschule-bayreuth.de
SUMMARY:Quali Informatik
DESCRIPTION:Quali Informatik in Theorie und Praxis
URL:https://altstadtschule-bayreuth.de/termine/quali-informatik-2/
LOCATION:Mittelschule Bayreuth-Altstadt\, Fantaisiestr.\, Bayreuth\, 95445
CATEGORIES:Abschlussprüfung
END:VEVENT
BEGIN:VEVENT
DTSTART;TZID=UTC:20240606T080000
DTEND;TZID=UTC:20240606T120000
DTSTAMP:20260422T220833
CREATED:20240205T111735Z
LAST-MODIFIED:20240205T111735Z
UID:2783-1717660800-1717675200@altstadtschule-bayreuth.de
SUMMARY:Quali Informatik
DESCRIPTION:Theorie und Praxis – PC Raum 2\, Raum 25
URL:https://altstadtschule-bayreuth.de/termine/quali-informatik-3/
LOCATION:Mittelschule Bayreuth-Altstadt\, Fantaisiestr.\, Bayreuth\, 95445
CATEGORIES:Abschlussprüfung
END:VEVENT
BEGIN:VEVENT
DTSTART;TZID=UTC:20240606T080000
DTEND;TZID=UTC:20240606T120000
DTSTAMP:20260422T220833
CREATED:20240205T111603Z
LAST-MODIFIED:20240205T111603Z
UID:2781-1717660800-1717675200@altstadtschule-bayreuth.de
SUMMARY:Quali Kunst
DESCRIPTION:Theorie und Praxis
URL:https://altstadtschule-bayreuth.de/termine/quali-kunst-2/
LOCATION:Mittelschule Bayreuth-Altstadt\, Fantaisiestr.\, Bayreuth\, 95445
CATEGORIES:Abschlussprüfung
END:VEVENT
BEGIN:VEVENT
DTSTART;TZID=UTC:20240605T083000
DTEND;TZID=UTC:20240605T083000
DTSTAMP:20260422T220833
CREATED:20240605T080024Z
LAST-MODIFIED:20240205T105850Z
UID:1831-1717576200-1717576200@altstadtschule-bayreuth.de
SUMMARY:Quali Religion/Ethik
DESCRIPTION:Quali in den Fächern Religion evangelisch und katholisch\, sowie Ethik
URL:https://altstadtschule-bayreuth.de/termine/quali-religion-ethik/
LOCATION:Mittelschule Bayreuth-Altstadt\, Fantaisiestr.\, Bayreuth\, 95445
CATEGORIES:Abschlussprüfung
END:VEVENT
BEGIN:VEVENT
DTSTART;TZID=UTC:20240605T080000
DTEND;TZID=UTC:20240605T120000
DTSTAMP:20260422T220833
CREATED:20240205T111401Z
LAST-MODIFIED:20240205T111401Z
UID:2779-1717574400-1717588800@altstadtschule-bayreuth.de
SUMMARY:Quali Religion
DESCRIPTION:Quali für ev.\, kath. Religion und Ethik
URL:https://altstadtschule-bayreuth.de/termine/quali-religion/
LOCATION:Mittelschule Bayreuth-Altstadt\, Fantaisiestr.\, Bayreuth\, 95445
CATEGORIES:Abschlussprüfung
END:VEVENT
BEGIN:VEVENT
DTSTART;TZID=UTC:20240604T080000
DTEND;TZID=UTC:20240604T230000
DTSTAMP:20260422T220833
CREATED:20230123T115525Z
LAST-MODIFIED:20240205T104718Z
UID:1833-1717488000-1717542000@altstadtschule-bayreuth.de
SUMMARY:Quali Sport
DESCRIPTION:Quali Sport Theorie und Praxis
URL:https://altstadtschule-bayreuth.de/termine/quali-sport/
LOCATION:Mittelschule Bayreuth-Altstadt\, Fantaisiestr.\, Bayreuth\, 95445
CATEGORIES:Abschlussprüfung
END:VEVENT
BEGIN:VEVENT
DTSTART;VALUE=DATE:20240520
DTEND;VALUE=DATE:20240603
DTSTAMP:20260422T220833
CREATED:20240115T142529Z
LAST-MODIFIED:20240115T144508Z
UID:2697-1716163200-1717372799@altstadtschule-bayreuth.de
SUMMARY:Pfingstferien
DESCRIPTION:
URL:https://altstadtschule-bayreuth.de/termine/pfingstferien/
CATEGORIES:Ferien
END:VEVENT
BEGIN:VEVENT
DTSTART;VALUE=DATE:20240510
DTEND;VALUE=DATE:20240518
DTSTAMP:20260422T220833
CREATED:20240115T143233Z
LAST-MODIFIED:20240205T104339Z
UID:2701-1715299200-1715990399@altstadtschule-bayreuth.de
SUMMARY:Quali BoZ (Te\, ES\, WiK)
DESCRIPTION:Quali-Prüfung der Berufsorientierten Fächer \nVoraussichtlicher Ablauf\n(Stand Feb. 2024) \n\n10.05. Freitag – Leittextausgabe 8:00 Uhr in den jeweiligen Fachräumen\n13.05. Montag – Schalterstunde 8:00 Uhr und Arbeitszeit\n14.05. Dienstag – Durchführung Teil 1 (Te\, ES\, WiK)\n15.05. Mittwoch – Durchführung Teil 2 (ES) und Nachbereitungszeit (Te\, WiK)\n16.05. Donnerstag – Nachbereitungszeit (ES) und Präsentationen Teil 1 (WiK\, Te)\n17.05. Freitag – Präsentationen Teil 2 (ES\, WiK)
URL:https://altstadtschule-bayreuth.de/termine/quali-boz-te-es-wik/
LOCATION:Mittelschule Bayreuth-Altstadt\, Fantaisiestr.\, Bayreuth\, 95445
CATEGORIES:Abschlussprüfung
ORGANIZER;CN="Mittelschule Bayreuth-Altstadt":MAILTO:verwaltung@altstadtschule-bayreuth.de
END:VEVENT
BEGIN:VEVENT
DTSTART;TZID=UTC:20240502T150000
DTEND;TZID=UTC:20240502T170000
DTSTAMP:20260422T220833
CREATED:20240502T124933Z
LAST-MODIFIED:20240502T124933Z
UID:2997-1714662000-1714669200@altstadtschule-bayreuth.de
SUMMARY:Schulfest
DESCRIPTION:Am Mittwoch\, den 8. Mai geht es um 15 Uhr los. Der Elternbeirat hält Speisen und Getränke bereit und die Schüler haben verschiedene Spiele und Verkaufsstände in Hof und Sporthalle errichtet. Wir freuen uns auf Ihr kommen!
URL:https://altstadtschule-bayreuth.de/termine/schulfest-2/
LOCATION:Mittelschule Bayreuth-Altstadt\, Fantaisiestr.\, Bayreuth\, 95445
CATEGORIES:Feste
END:VEVENT
END:VCALENDAR